BEGIN:VCALENDAR
VERSION:2.0
PRODID:-//hacksw/handcal//NONSGML v1.0//EN
BEGIN:VEVENT
SUMMARY:Championnat Departemental T.A.R du 65 a Artagnan
UID:44117f25-c163-4f74-a3d7-616562418f38
DTSTART:20260327T080000Z
DTEND:20260329T150000Z
LOCATION:Localisation   
CATEGORIES:Sportif
STATUS:
URL;VALUE=URI:https://lesisardsdebigorre.sportsregions.fr/evenements/2026/03/27/championnat-departemental-tar-du-65-a-artagnan-2435355
END:VEVENT
END:VCALENDAR
