BEGIN:VCALENDAR
VERSION:2.0
PRODID:-//hacksw/handcal//NONSGML v1.0//EN
BEGIN:VEVENT
SUMMARY:Match TSV niveau 3 handgun au TSCA(St Jean de Marsac)
UID:e88349e5-a793-4aef-b3e0-03b7087c5c8c
DTSTART:20260327T080000Z
DTEND:20260329T150000Z
LOCATION:Localisation   
CATEGORIES:Sportif
STATUS:
DESCRIPTION:<p>Resultats du match TSV niveau 3 au TSCA (St Jean de
 Marsac).</p>
 
 <p><u>- Production (44 tireurs)</u></p>
 
 <p>Luca.F. 7e
 82%</p>
 
 <p>Florian.F. 13e 73%</p>
 
 <p>Philippe DO. 16e 72% - podium
 3e senior</p>
 
 <p>Stephane C. 29e 60%</p>
 
 <p>Francois DO. 33e
 57%</p>
 
 <p>Karen N .36e 49%</p>
 
 <p><u>-Production optique ( 55
 titeurs)</u></p>
 
 <p>Andre S. 53e 39%</p>
 
 <p><u>-Standard ( 31
 tireurs)</u></p>
 
 <p>Pierre M. 27e 52%</p>
 
 <p><u>-PCC(43
 tireurs)</u></p>
 
 <p>Olivier C. 24e 67%</p>
 
 <p><u>-Open (18
 tireurs)</u></p>
 
 <p>Jean Jacques V. 8e 67%</p>
 
 <p>Match de 12
 epreuves regroupant 224 titreurs dans diverses categories armes de
 poing. Comme l'annee derniere organisation et disign des courses sans
 faute.</p>
 
 <p>Olivier C. a fait helper et a surtout eu la
 gentillesse de suivre notre equipe samedi afin de les coacher. 
 Merci egalement a Jean Jacques V. qui a ete un veritable capitaine
 pour l'equipe.</p>
 
 <p>Felicitations a Karen N et Pierre M pour leurs
 1er match apres moins d'une annee de formation. Luca F. a participe a
 l'arbitrage des matchs.</p>
 
 <p>Felicitations a tous pour representer
 le club.</p>
URL;VALUE=URI:https://lesisardsdebigorre.sportsregions.fr/evenements/2026/03/27/match-tsv-niveau-3-handgun-au-tscast-jean-de-marsac-2435151
END:VEVENT
END:VCALENDAR
