BEGIN:VCALENDAR
VERSION:2.0
PRODID:-//hacksw/handcal//NONSGML v1.0//EN
BEGIN:VEVENT
SUMMARY:Match TSV level 3 handgun a Arcachon-Resultats
UID:c40ac894-69a8-48ba-a0b9-31c010a6db6c
DTSTART:20260418T070000Z
DTEND:20260419T150000Z
LOCATION:Localisation   
CATEGORIES:Sportif
STATUS:
URL;VALUE=URI:https://lesisardsdebigorre.sportsregions.fr/evenements/2026/04/18/match-tsv-level-3-handgun-a-arcachon-resultats-2443551
END:VEVENT
END:VCALENDAR
