BEGIN:VCALENDAR
VERSION:2.0
PRODID:-//hacksw/handcal//NONSGML v1.0//EN
BEGIN:VEVENT
SUMMARY:Stand TLD-300M . Fermeture pour travaux de terrassement
UID:f6c6cd8e-4aa9-4c3a-8f58-797be1737540
DTSTART:20260508T070000Z
DTEND:20260510T153000Z
LOCATION:Localisation   
CATEGORIES:Administratif
STATUS:
DESCRIPTION:<p>Le stand TLD - 300M sera ferme pour travaux de
 terrassement,  vendredi 08 mai, samedi 09 mai et dimanche 10 mai
 2026 de 09h00 a 17h30.</p>
URL;VALUE=URI:https://lesisardsdebigorre.sportsregions.fr/evenements/2026/05/08/stand-tld-300m-fermeture-pour-travaux-de-terrassement-2439277
END:VEVENT
END:VCALENDAR
