BEGIN:VCALENDAR
VERSION:2.0
PRODID:-//hacksw/handcal//NONSGML v1.0//EN
BEGIN:VEVENT
SUMMARY:Stand TLD 300M.Reservation pour une journee " securite " au SHCL ( Saint Hubert Club Lourdais )
UID:76877a9b-b0f6-448c-b81c-61c0ea79c7d9
DTSTART:20260530T070000Z
DTEND:20260530T150000Z
LOCATION:Localisation   
CATEGORIES:Formation
STATUS:
DESCRIPTION:<p>Le samedi 30 mai le stand TLD 300m sera reserve pour
 une journee securite au SHCL ( Saint Hubert Club Lourdais ) de 9h00 a
 17h00.</p>
URL;VALUE=URI:https://lesisardsdebigorre.sportsregions.fr/evenements/2026/05/30/stand-tld-300mreservation-pour-une-journee-securite-au-shcl-saint-hubert-club-lourdais-2435343
END:VEVENT
END:VCALENDAR
